BEGIN:VCALENDAR;
VERSION:2.0;
PRODID:-//Le Vallon des Glauges - ECPv6.0.6.2//NONSGML v1.0//EN;
CALSCALE:GREGORIAN;
METHOD:PUBLISH;
X-WR-CALNAME:Le Vallon des Glauges
X-ORIGINAL-URL:https://www.vallondesglauges.com;
X-WR-CALDESC:Events for Le Vallon des Glauges;
REFRESH-INTERVAL;VALUE=DURATION:PT1H;
X-Robots-Tag:noindex;
X-PUBLISHED-TTL:PT1H
BEGIN:VTIMEZONE\
TZID:Europe/Helsinki\
BEGIN:DAYLIGHT\
TZOFFSETFROM:+0200\
TZOFFSETTO:+0300\
TZNAME:EEST\
DTSTART:20230326T010000
END:DAYLIGHT
BEGIN:STANDARD
TZOFFSETFROM:+0300
TZOFFSETTO:+0200
TZNAME:EET
DTSTART:20231029T010000
END:STANDARD
TZID:Europe/Paris
BEGIN:DAYLIGHT
TZOFFSETFROM:+0100
TZOFFSETTO:+0200
TZNAME:CEST
DTSTART:20230326T010000
END:DAYLIGHT
BEGIN:STANDARD
TZOFFSETFROM:+0200
TZOFFSETTO:+0100
TZNAME:CET
DTSTART:20231029T010000
END:STANDARD
END:VTIMEZONE
BEGIN:VEVENT
DTSTART;TZID=Europe/Helsinki:20230223T183000
DTEND;TZID=Europe/Helsinki:20230223T193000
DTSTAMP:20260419T184008
CREATED:20230113T115228Z
LAST-MODIFIED:20230508T124241Z
UID:10000006-1677177000-1677180600@www.vallondesglauges.com
SUMMARY:Yoga-Pilates with Maud
DESCRIPTION:Reservations: 06 27 53 48 85
URL:https://www.vallondesglauges.com/event/cours-de-yoga-pilates/2023-02-23/
END:VEVENT
BEGIN:VEVENT
DTSTART;TZID=Europe/Paris:20230222T180000
DTEND;TZID=Europe/Paris:20230222T190000
DTSTAMP:20260419T184008
CREATED:20230118T111224Z
LAST-MODIFIED:20230508T123846Z
UID:10000018-1677088800-1677092400@www.vallondesglauges.com
SUMMARY:Yoga-Pilates with Lucilda
DESCRIPTION:Reservations: 06 09 43 66 59
URL:https://www.vallondesglauges.com/event/yoga-pilates-avec-lucilda/2023-02-22/
END:VEVENT
BEGIN:VEVENT
DTSTART;TZID=Europe/Helsinki:20230209T183000
DTEND;TZID=Europe/Helsinki:20230209T193000
DTSTAMP:20260419T184008
CREATED:20230113T115228Z
LAST-MODIFIED:20230508T124241Z
UID:10000005-1675967400-1675971000@www.vallondesglauges.com
SUMMARY:Yoga-Pilates with Maud
DESCRIPTION:Reservations: 06 27 53 48 85
URL:https://www.vallondesglauges.com/event/cours-de-yoga-pilates/2023-02-09/
END:VEVENT
BEGIN:VEVENT
DTSTART;TZID=Europe/Paris:20230201T180000
DTEND;TZID=Europe/Paris:20230201T190000
DTSTAMP:20260419T184008
CREATED:20230118T111224Z
LAST-MODIFIED:20230508T123846Z
UID:10000012-1675274400-1675278000@www.vallondesglauges.com
SUMMARY:Yoga-Pilates with Lucilda
DESCRIPTION:Reservations: 06 09 43 66 59
URL:https://www.vallondesglauges.com/event/yoga-pilates-avec-lucilda/2023-02-01/
END:VEVENT
BEGIN:VEVENT
DTSTART;TZID=Europe/Helsinki:20230126T183000
DTEND;TZID=Europe/Helsinki:20230126T193000
DTSTAMP:20260419T184008
CREATED:20230113T115228Z
LAST-MODIFIED:20230508T124241Z
UID:10000001-1674757800-1674761400@www.vallondesglauges.com
SUMMARY:Yoga-Pilates with Maud
DESCRIPTION:Reservations: 06 27 53 48 85
URL:https://www.vallondesglauges.com/event/cours-de-yoga-pilates/2023-01-26/
END:VEVENT
END:VCALENDAR