BEGIN:VCALENDAR
VERSION:2.0
PRODID:-//Le Vallon des Glauges - ECPv6.0.6.2//NONSGML v1.0//EN
CALSCALE:GREGORIAN
METHOD:PUBLISH
X-WR-CALNAME:Le Vallon des Glauges
X-ORIGINAL-URL:https://www.vallondesglauges.com
X-WR-CALDESC:Events for Le Vallon des Glauges
REFRESH-INTERVAL;VALUE=DURATION:PT1H
X-Robots-Tag:noindex
X-PUBLISHED-TTL:PT1H
BEGIN:VTIMEZONE
TZID:Europe/Helsinki
BEGIN:DAYLIGHT
TZOFFSETFROM:+0200
TZOFFSETTO:+0300
TZNAME:EEST
DTSTART:20230326T010000
END:DAYLIGHT
BEGIN:STANDARD
TZOFFSETFROM:+0300
TZOFFSETTO:+0200
TZNAME:EET
DTSTART:20231029T010000
END:STANDARD
TZID:Europe/Paris
BEGIN:DAYLIGHT
TZOFFSETFROM:+0100
TZOFFSETTO:+0200
TZNAME:CEST
DTSTART:20230326T010000
END:DAYLIGHT
BEGIN:STANDARD
TZOFFSETFROM:+0200
TZOFFSETTO:+0100
TZNAME:CET
DTSTART:20231029T010000
END:STANDARD
END:VTIMEZONE
BEGIN:VEVENT
DTSTART;TZID=Europe/Helsinki:20230810T183000
DTEND;TZID=Europe/Helsinki:20230810T193000
DTSTAMP:20260419T155440
CREATED:20230113T115228Z
LAST-MODIFIED:20230508T124241Z
UID:10000029-1691692200-1691695800@www.vallondesglauges.com
SUMMARY:Yoga-Pilates avec Maud
DESCRIPTION:Réservations : 06 27 53 48 85
URL:https://www.vallondesglauges.com/event/cours-de-yoga-pilates/2023-08-10/
END:VEVENT
BEGIN:VEVENT
DTSTART;TZID=Europe/Paris:20230802T190000
DTEND;TZID=Europe/Paris:20230802T233000
DTSTAMP:20260419T155440
CREATED:20230705T102225Z
LAST-MODIFIED:20230705T102225Z
UID:10000035-1691002800-1691019000@www.vallondesglauges.com
SUMMARY:Les Lives du Vallon #4 avec YEAMANGO
DESCRIPTION:Le Domaine du Vallon des Glauges vous accueille pour sa quatrième soirée Concert Live sur son rooftop en plein coeur des Alpilles ! \n\nÀ cette occasion\, nous avons le grand plaisir d’inviter le groupe YEAMANGO qui vous proposera une musique aux notes cubaines \n————————\nINFOS PRATIQUES\n————————\nLIEU\nDomaine du Vallon des Glauges\, Voie d’Aureille 13430 EYGUIERES\n\nDATE & HEURE\nMercredi 02 août // 19h-23h30\n\n RESTAURATION POSSIBLE SUR PLACE\nRetrouvez les foodtrucks Los Amigos (Tex Mex) et El jefe (cuisine cubaine) pour régaler vos papilles !\n\n ENTREE SUR RESERVATION : 8€\nhttps://bit.ly/3prKaUH\nSuivez-nous sur Instagram afin de ne manquer aucune info @vallondesglauges
URL:https://www.vallondesglauges.com/event/les-lives-du-vallon-4-avec-yeamango/
ATTACH;FMTTYPE=image/png:https://www.vallondesglauges.com/wp-content/uploads/2023/07/4.png
END:VEVENT
BEGIN:VEVENT
DTSTART;TZID=Europe/Helsinki:20230727T183000
DTEND;TZID=Europe/Helsinki:20230727T193000
DTSTAMP:20260419T155440
CREATED:20230113T115228Z
LAST-MODIFIED:20230508T124241Z
UID:10000028-1690482600-1690486200@www.vallondesglauges.com
SUMMARY:Yoga-Pilates avec Maud
DESCRIPTION:Réservations : 06 27 53 48 85
URL:https://www.vallondesglauges.com/event/cours-de-yoga-pilates/2023-07-27/
END:VEVENT
BEGIN:VEVENT
DTSTART;TZID=Europe/Paris:20230725T190000
DTEND;TZID=Europe/Paris:20230725T233000
DTSTAMP:20260419T155440
CREATED:20230705T103337Z
LAST-MODIFIED:20230705T103337Z
UID:10000038-1690311600-1690327800@www.vallondesglauges.com
SUMMARY:#1 CINÉ ÉTOILÉ - LA DÉGUSTATION
DESCRIPTION:Le Domaine du Vallon des Glauges vous accueille pour sa première soirée de l’été Ciné étoilé en plein coeur des Alpilles ! \nNous sommes ravis de vous recevoir devant le grand écran pour une séance en partenariat avec la mairie d’Eyguières.\nEn première partie vous pourrez écouter le groupe de musiciens Super Van de 19h à 21h30. Puis en seconde partie\, nous diffuserons le film La Dégustation avec Bernard Campan.\nVous pourrez également vous restaurer auprès des foodtrucks Tuk Tuk et Los Amigos.\n————————\nINFOS PRATIQUES\n————————\nLIEU \nDomaine du Vallon des Glauges\, Voie d’Aureille 13430 EYGUIERES\nDATE & HEURE \nMardi 25 juillet\n19h00-21h30 : concert et apéritif (placement libre)\n21h45-00h15 : diffusion du film (placement libre)\n RESTAURATION POSSIBLE SUR PLACE \nRetrouvez les foodtrucks Tuk Tuk et Los Amigos qui seront là pour vous régaler !\n ENTREE SUR RESERVATION :\nTarif normal : 12\,50 €\nTarif enfant (-12 ans) : 7 €\n BILLETERIE EN LIGNE :\nhttps://bit.ly/3JJ0FT8\nSuivez-nous sur Instagram afin de ne manquer aucune info @vallondesglauges
URL:https://www.vallondesglauges.com/event/1-cine-etoile-la-degustation/
ATTACH;FMTTYPE=image/jpeg:https://www.vallondesglauges.com/wp-content/uploads/2023/07/8.jpg
END:VEVENT
BEGIN:VEVENT
DTSTART;TZID=Europe/Paris:20230719T190000
DTEND;TZID=Europe/Paris:20230719T233000
DTSTAMP:20260419T155440
CREATED:20230705T102051Z
LAST-MODIFIED:20230705T102051Z
UID:10000034-1689793200-1689809400@www.vallondesglauges.com
SUMMARY:Les Lives du Vallon #3 avec FABIEN BRASSAC BAND
DESCRIPTION:Le Domaine du Vallon des Glauges vous accueille pour sa troisième soirée Concert Live sur son rooftop en plein coeur des Alpilles ! \n\nÀ cette occasion\, nous avons le grand plaisir d’inviter FABIEN BRASSAC BAND qui vous proposera une musique très variée autour des musiques pop-rock\, soul\, funk \n————————\nINFOS PRATIQUES\n————————\nLIEU\nDomaine du Vallon des Glauges\, Voie d’Aureille 13430 EYGUIERES\n\nDATE & HEURE\nMercredi 19 juillet // 19h-23h30\n\n RESTAURATION POSSIBLE SUR PLACE\nRetrouvez les foodtrucks La Maison du Samboss (spécialités mahoraises) et Tuk Tuk (cuisine thaï) pour régaler vos papilles !\n\n ENTREE SUR RESERVATION : 8€\nhttps://bit.ly/3NP0A2R\n\nSuivez-nous sur Instagram afin de ne manquer aucune info @vallondesglauges
URL:https://www.vallondesglauges.com/event/les-lives-du-vallon-3-avec-fabien-brassac-band/
ATTACH;FMTTYPE=image/png:https://www.vallondesglauges.com/wp-content/uploads/2023/07/3-copie.png
END:VEVENT
BEGIN:VEVENT
DTSTART;TZID=Europe/Helsinki:20230713T183000
DTEND;TZID=Europe/Helsinki:20230713T193000
DTSTAMP:20260419T155440
CREATED:20230113T115228Z
LAST-MODIFIED:20230508T124241Z
UID:10000027-1689273000-1689276600@www.vallondesglauges.com
SUMMARY:Yoga-Pilates avec Maud
DESCRIPTION:Réservations : 06 27 53 48 85
URL:https://www.vallondesglauges.com/event/cours-de-yoga-pilates/2023-07-13/
END:VEVENT
BEGIN:VEVENT
DTSTART;TZID=Europe/Paris:20230705T190000
DTEND;TZID=Europe/Paris:20230705T233000
DTSTAMP:20260419T155440
CREATED:20230526T104712Z
LAST-MODIFIED:20230526T104712Z
UID:10000033-1688583600-1688599800@www.vallondesglauges.com
SUMMARY:Les Lives du Vallon #2 avec The Majestics
DESCRIPTION:Le Domaine du Vallon des Glauges vous accueille pour sa deuxième soirée Concert Live sur son rooftop en plein coeur des Alpilles ! \n\n\n\nÀ cette occasion\, nous avons le grand plaisir d’inviter THE MAJESTICS qui vous proposera une musique très variée allant des musiques latines à la chanson française \n\n\n————————\nINFOS PRATIQUES\n————————\n\n\nLIEU\nDomaine du Vallon des Glauges\, Voie d’Aureille 13430 EYGUIERES\n\n\n\nDATE & HEURE\nMercredi 05 juillet // 19h-23h30\n\n\n\n RESTAURATION POSSIBLE SUR PLACE\nRetrouvez le foodtruck Les Mordus (coquillages & poissons frais façon street food) pour régaler vos papilles !\n\n\n\n ENTREE SUR RESERVATION : 8€\nAccès limité et réservation obligatoire : https://bit.ly/438dmhY\n\n\n\nSuivez-nous sur Instagram afin de ne manquer aucune info @vallondesglauges
URL:https://www.vallondesglauges.com/event/les-lives-du-vallon-2-avec-the-majestics/
ATTACH;FMTTYPE=image/jpeg:https://www.vallondesglauges.com/wp-content/uploads/2023/05/2.jpg
END:VEVENT
BEGIN:VEVENT
DTSTART;TZID=Europe/Paris:20230630T190000
DTEND;TZID=Europe/Paris:20230630T223000
DTSTAMP:20260419T155440
CREATED:20230523T155238Z
LAST-MODIFIED:20230523T155503Z
UID:10000031-1688151600-1688164200@www.vallondesglauges.com
SUMMARY:Dîner insolite au Domaine avec MIDI MARE
DESCRIPTION:Le vendredi 30 juin 2023\, venez vivre une soirée d’été magique au Vallon des Glauges et dînez à la lueur des bougies en profitant d’une vue exceptionnelle sur la nature environnante.\nDans un décor à couper le souffle\, le Domaine et Midimare vous invitent à partager une expérience privilégiée autour du vin\, de la musique et de la gastronomie \n\n\n** Places limitées **\nInfos & réservations \nhttps://bit.ly/3np3MI8\n\n\nLe billet comprend :\n– La découverte originale du Domaine et de nos vins.\n– Un cocktail musical avec amuse-bouches et verres de bienvenue. Le guitariste argentin Diego Trosman animera le cocktail avec son répertoire de tango et jazz.\n– Un dîner en 3 temps (entrée\, plat\, dessert) sous les étoiles orchestré par le Chef Clément Géhin qui proposera un menu créatif et raffiné en accord mets & vins du Domaine.\nLe dîner se tiendra sur le rooftop du Domaine avec notre magnifique vue sur le vallon \n\n\nLe Chef :\nClément Gehin est originaire d’Aubagne et a développé une véritable passion pour la cuisine du Sud. Ses expériences l’ont amené à travailler aux côtés de grands Chefs étoilés tels que Georges Blanc et Nans Gaillard.\nClément propose aujourd’hui une cuisine raffinée et créative et concoctera pour cette soirée exceptionnelle un menu en accord mets & vins du Domaine du Vallon des Glauges.\n\n\nLe musicien :\nNé à Buenos Aires\, Tiego Trosman est un guitariste argentin reconnu qui a parcouru les scènes des festivals de tango et de musiques du monde dans toute l’Europe.\nDiego animera le cocktail de cette soirée magique et vous fera voyager avec son répertoire mêlant tango\, folklore argentin et jazz.\n\n\nImportant\nSoirée intimiste limitée en participants.\nLe concert-cocktail est un format debout avec mange-debouts.\nLe dîner est un format assis autour d’une grande tablée unique pour une ambiance chaleureuse et conviviale.\nPrévoyez un pull ou une veste car même en plein été il peut faire frais à l’extérieur au cours de la soirée.\nTarif : 129 € par personne\n\n\nLe billet est valable pour une personne pour la soirée : Dîner insolite au Vallon des Glauges.\nEntrée valable le vendredi 30 juin 2023. Début de la soirée à 19h.\nBillet remboursable jusqu’à 15 jours avant l’événement.\n\n\n\nContacts\nbonjour@midimare.com\nPierrick : 0686104429 | Pauline : 0612427732
URL:https://www.vallondesglauges.com/event/diner-insolite-au-domaine-avec-midi-mare/
ATTACH;FMTTYPE=image/png:https://www.vallondesglauges.com/wp-content/uploads/2023/05/EVENT-FACEBOOK-2023.png
END:VEVENT
BEGIN:VEVENT
DTSTART;TZID=Europe/Helsinki:20230629T183000
DTEND;TZID=Europe/Helsinki:20230629T193000
DTSTAMP:20260419T155440
CREATED:20230113T115228Z
LAST-MODIFIED:20230508T124241Z
UID:10000026-1688063400-1688067000@www.vallondesglauges.com
SUMMARY:Yoga-Pilates avec Maud
DESCRIPTION:Réservations : 06 27 53 48 85
URL:https://www.vallondesglauges.com/event/cours-de-yoga-pilates/2023-06-29/
END:VEVENT
BEGIN:VEVENT
DTSTART;TZID=Europe/Paris:20230621T180000
DTEND;TZID=Europe/Paris:20230621T190000
DTSTAMP:20260419T155440
CREATED:20230118T111224Z
LAST-MODIFIED:20230508T123846Z
UID:10000023-1687370400-1687374000@www.vallondesglauges.com
SUMMARY:Yoga-Pilates avec Lucilda
DESCRIPTION:Réservations : 06 09 43 66 59
URL:https://www.vallondesglauges.com/event/yoga-pilates-avec-lucilda/2023-06-21/
END:VEVENT
BEGIN:VEVENT
DTSTART;TZID=Europe/Paris:20230614T190000
DTEND;TZID=Europe/Paris:20230614T233000
DTSTAMP:20260419T155440
CREATED:20230526T103338Z
LAST-MODIFIED:20230526T103338Z
UID:10000032-1686769200-1686785400@www.vallondesglauges.com
SUMMARY:Les Lives du Vallon #1 avec Lys Music
DESCRIPTION:Le Domaine du Vallon des Glauges vous accueille pour sa toute première soirée Concert Live sur son rooftop en plein coeur des Alpilles ! \n\n\n\nÀ cette occasion\, nous avons le grand plaisir d’inviter LYS MUSIC qui vous proposera une musique très variée allant du Jazz à la chanson française \n\n\n————————\nINFOS PRATIQUES\n————————\n\n\nLIEU \nDomaine du Vallon des Glauges\, Voie d’Aureille 13430 EYGUIERES\n\n\nDATE & HEURE \nMercredi 14 juin // 19h-23h30\n\n\n RESTAURATION POSSIBLE SUR PLACE \nRetrouvez les foodtrucks Bep Viet (cuisine vietnamienne) et El Jefe (cuisine cubaine) pour régaler vos papilles !\n\n\n ENTREE SUR RESERVATION : 8€\n\n\nAccès limité et réservation obligatoire : bit.ly/3otOW3p\n\nSuivez-nous sur Instagram afin de ne manquer aucune info @vallondesglauges
URL:https://www.vallondesglauges.com/event/les-lives-du-vallon-1-avec-lys-music/
ATTACH;FMTTYPE=image/jpeg:https://www.vallondesglauges.com/wp-content/uploads/2023/05/1.jpg
END:VEVENT
BEGIN:VEVENT
DTSTART;TZID=Europe/Paris:20230607T180000
DTEND;TZID=Europe/Paris:20230607T190000
DTSTAMP:20260419T155440
CREATED:20230118T111224Z
LAST-MODIFIED:20230508T123846Z
UID:10000022-1686160800-1686164400@www.vallondesglauges.com
SUMMARY:Yoga-Pilates avec Lucilda
DESCRIPTION:Réservations : 06 09 43 66 59
URL:https://www.vallondesglauges.com/event/yoga-pilates-avec-lucilda/2023-06-07/
END:VEVENT
BEGIN:VEVENT
DTSTART;TZID=Europe/Helsinki:20230601T183000
DTEND;TZID=Europe/Helsinki:20230601T193000
DTSTAMP:20260419T155440
CREATED:20230113T115228Z
LAST-MODIFIED:20230508T124241Z
UID:10000025-1685644200-1685647800@www.vallondesglauges.com
SUMMARY:Yoga-Pilates avec Maud
DESCRIPTION:Réservations : 06 27 53 48 85
URL:https://www.vallondesglauges.com/event/cours-de-yoga-pilates/2023-06-01/
END:VEVENT
BEGIN:VEVENT
DTSTART;TZID=Europe/Paris:20230524T180000
DTEND;TZID=Europe/Paris:20230524T190000
DTSTAMP:20260419T155440
CREATED:20230118T111224Z
LAST-MODIFIED:20230508T123846Z
UID:10000021-1684951200-1684954800@www.vallondesglauges.com
SUMMARY:Yoga-Pilates avec Lucilda
DESCRIPTION:Réservations : 06 09 43 66 59
URL:https://www.vallondesglauges.com/event/yoga-pilates-avec-lucilda/2023-05-24/
END:VEVENT
BEGIN:VEVENT
DTSTART;TZID=Europe/Helsinki:20230518T183000
DTEND;TZID=Europe/Helsinki:20230518T193000
DTSTAMP:20260419T155440
CREATED:20230113T115228Z
LAST-MODIFIED:20230508T124241Z
UID:10000024-1684434600-1684438200@www.vallondesglauges.com
SUMMARY:Yoga-Pilates avec Maud
DESCRIPTION:Réservations : 06 27 53 48 85
URL:https://www.vallondesglauges.com/event/cours-de-yoga-pilates/2023-05-18/
END:VEVENT
BEGIN:VEVENT
DTSTART;TZID=Europe/Paris:20230510T180000
DTEND;TZID=Europe/Paris:20230510T190000
DTSTAMP:20260419T155440
CREATED:20230118T111224Z
LAST-MODIFIED:20230508T123846Z
UID:10000020-1683741600-1683745200@www.vallondesglauges.com
SUMMARY:Yoga-Pilates avec Lucilda
DESCRIPTION:Réservations : 06 09 43 66 59
URL:https://www.vallondesglauges.com/event/yoga-pilates-avec-lucilda/2023-05-10/
END:VEVENT
BEGIN:VEVENT
DTSTART;TZID=Europe/Paris:20230502T170000
DTEND;TZID=Europe/Paris:20230502T230000
DTSTAMP:20260419T155440
CREATED:20230426T125307Z
LAST-MODIFIED:20230426T130120Z
UID:10000019-1683046800-1683068400@www.vallondesglauges.com
SUMMARY:OUVERTURE DE LA TERRASSE DU VALLON & CONCERT JAZZ MANOUCHE
DESCRIPTION:
URL:https://www.vallondesglauges.com/event/ouverture-de-la-terrasse-du-vallon-concert-jazz-manouche/
END:VEVENT
BEGIN:VEVENT
DTSTART;TZID=Europe/Helsinki:20230406T183000
DTEND;TZID=Europe/Helsinki:20230406T193000
DTSTAMP:20260419T155440
CREATED:20230113T115228Z
LAST-MODIFIED:20230508T124241Z
UID:10000010-1680805800-1680809400@www.vallondesglauges.com
SUMMARY:Yoga-Pilates avec Maud
DESCRIPTION:Réservations : 06 27 53 48 85
URL:https://www.vallondesglauges.com/event/cours-de-yoga-pilates/2023-04-06/
END:VEVENT
BEGIN:VEVENT
DTSTART;TZID=Europe/Paris:20230329T180000
DTEND;TZID=Europe/Paris:20230329T190000
DTSTAMP:20260419T155440
CREATED:20230118T111224Z
LAST-MODIFIED:20230508T123846Z
UID:10000016-1680112800-1680116400@www.vallondesglauges.com
SUMMARY:Yoga-Pilates avec Lucilda
DESCRIPTION:Réservations : 06 09 43 66 59
URL:https://www.vallondesglauges.com/event/yoga-pilates-avec-lucilda/2023-03-29/
END:VEVENT
BEGIN:VEVENT
DTSTART;TZID=Europe/Paris:20230325T100000
DTEND;TZID=Europe/Paris:20230326T180000
DTSTAMP:20260419T155440
CREATED:20230118T111648Z
LAST-MODIFIED:20230118T111648Z
UID:10000017-1679738400-1679853600@www.vallondesglauges.com
SUMMARY:Salon des Vins & des produits du terroir
DESCRIPTION:
URL:https://www.vallondesglauges.com/event/salon-des-vins-des-produits-du-terroir/
END:VEVENT
BEGIN:VEVENT
DTSTART;TZID=Europe/Helsinki:20230323T183000
DTEND;TZID=Europe/Helsinki:20230323T193000
DTSTAMP:20260419T155440
CREATED:20230113T115228Z
LAST-MODIFIED:20230508T124241Z
UID:10000009-1679596200-1679599800@www.vallondesglauges.com
SUMMARY:Yoga-Pilates avec Maud
DESCRIPTION:Réservations : 06 27 53 48 85
URL:https://www.vallondesglauges.com/event/cours-de-yoga-pilates/2023-03-23/
END:VEVENT
BEGIN:VEVENT
DTSTART;TZID=Europe/Paris:20230315T180000
DTEND;TZID=Europe/Paris:20230315T190000
DTSTAMP:20260419T155440
CREATED:20230118T111224Z
LAST-MODIFIED:20230508T123846Z
UID:10000015-1678903200-1678906800@www.vallondesglauges.com
SUMMARY:Yoga-Pilates avec Lucilda
DESCRIPTION:Réservations : 06 09 43 66 59
URL:https://www.vallondesglauges.com/event/yoga-pilates-avec-lucilda/2023-03-15/
END:VEVENT
BEGIN:VEVENT
DTSTART;TZID=Europe/Helsinki:20230309T183000
DTEND;TZID=Europe/Helsinki:20230309T193000
DTSTAMP:20260419T155440
CREATED:20230113T115228Z
LAST-MODIFIED:20230508T124241Z
UID:10000008-1678386600-1678390200@www.vallondesglauges.com
SUMMARY:Yoga-Pilates avec Maud
DESCRIPTION:Réservations : 06 27 53 48 85
URL:https://www.vallondesglauges.com/event/cours-de-yoga-pilates/2023-03-09/
END:VEVENT
BEGIN:VEVENT
DTSTART;TZID=Europe/Paris:20230301T180000
DTEND;TZID=Europe/Paris:20230301T190000
DTSTAMP:20260419T155440
CREATED:20230118T111224Z
LAST-MODIFIED:20230508T123846Z
UID:10000014-1677693600-1677697200@www.vallondesglauges.com
SUMMARY:Yoga-Pilates avec Lucilda
DESCRIPTION:Réservations : 06 09 43 66 59
URL:https://www.vallondesglauges.com/event/yoga-pilates-avec-lucilda/2023-03-01/
END:VEVENT
BEGIN:VEVENT
DTSTART;TZID=Europe/Helsinki:20230223T183000
DTEND;TZID=Europe/Helsinki:20230223T193000
DTSTAMP:20260419T155440
CREATED:20230113T115228Z
LAST-MODIFIED:20230508T124241Z
UID:10000006-1677177000-1677180600@www.vallondesglauges.com
SUMMARY:Yoga-Pilates avec Maud
DESCRIPTION:Réservations : 06 27 53 48 85
URL:https://www.vallondesglauges.com/event/cours-de-yoga-pilates/2023-02-23/
END:VEVENT
BEGIN:VEVENT
DTSTART;TZID=Europe/Paris:20230222T180000
DTEND;TZID=Europe/Paris:20230222T190000
DTSTAMP:20260419T155440
CREATED:20230118T111224Z
LAST-MODIFIED:20230508T123846Z
UID:10000018-1677088800-1677092400@www.vallondesglauges.com
SUMMARY:Yoga-Pilates avec Lucilda
DESCRIPTION:Réservations : 06 09 43 66 59
URL:https://www.vallondesglauges.com/event/yoga-pilates-avec-lucilda/2023-02-22/
END:VEVENT
BEGIN:VEVENT
DTSTART;TZID=Europe/Helsinki:20230209T183000
DTEND;TZID=Europe/Helsinki:20230209T193000
DTSTAMP:20260419T155440
CREATED:20230113T115228Z
LAST-MODIFIED:20230508T124241Z
UID:10000005-1675967400-1675971000@www.vallondesglauges.com
SUMMARY:Yoga-Pilates avec Maud
DESCRIPTION:Réservations : 06 27 53 48 85
URL:https://www.vallondesglauges.com/event/cours-de-yoga-pilates/2023-02-09/
END:VEVENT
BEGIN:VEVENT
DTSTART;TZID=Europe/Paris:20230201T180000
DTEND;TZID=Europe/Paris:20230201T190000
DTSTAMP:20260419T155440
CREATED:20230118T111224Z
LAST-MODIFIED:20230508T123846Z
UID:10000012-1675274400-1675278000@www.vallondesglauges.com
SUMMARY:Yoga-Pilates avec Lucilda
DESCRIPTION:Réservations : 06 09 43 66 59
URL:https://www.vallondesglauges.com/event/yoga-pilates-avec-lucilda/2023-02-01/
END:VEVENT
BEGIN:VEVENT
DTSTART;TZID=Europe/Helsinki:20230126T183000
DTEND;TZID=Europe/Helsinki:20230126T193000
DTSTAMP:20260419T155440
CREATED:20230113T115228Z
LAST-MODIFIED:20230508T124241Z
UID:10000001-1674757800-1674761400@www.vallondesglauges.com
SUMMARY:Yoga-Pilates avec Maud
DESCRIPTION:Réservations : 06 27 53 48 85
URL:https://www.vallondesglauges.com/event/cours-de-yoga-pilates/2023-01-26/
END:VEVENT
END:VCALENDAR